BEGIN:VCALENDAR
VERSION:2.0
PRODID:spatie/icalendar-generator
DESCRIPTION:Events from Gympie Womens Shed
X-WR-CALDESC:Events from Gympie Womens Shed
REFRESH-INTERVAL;VALUE=DURATION:PT1440M
X-PUBLISHED-TTL:PT1440M
BEGIN:VTIMEZONE
TZID:Etc/GMT+0
BEGIN:STANDARD
DTSTART:20250731T093000Z
TZOFFSETFROM:+0000
TZOFFSETTO:+0000
END:STANDARD
END:VTIMEZONE
BEGIN:VTIMEZONE
TZID:UTC
BEGIN:STANDARD
DTSTART:20250727T131247Z
TZOFFSETFROM:+0000
TZOFFSETTO:+0000
END:STANDARD
END:VTIMEZONE
BEGIN:VEVENT
UID:270-84
DTSTAMP:20260423T131247Z
SUMMARY:The Jewellery Composition  $15
LOCATION:Gympie Womens Shed 8 Fraser road  Gympie
ORGANIZER;CN=gympiewomensshed:MAILTO:gympiewomensshed@gmail.com
DTSTART;TZID=Etc/GMT+0:20260427T093000
DTEND;TZID=Etc/GMT+0:20260427T113000
X-ALT-DESC;FMTTYPE=TEXT/HTML:The Jewellery Composition Monday 27th\, 9.30-1
 1.30 Wise Woman: Annie Richards Cost: $15
CATEGORIES:General
URL;VALUE=URI:https://gympiewomensshed.com/mc-events/the-jewellery-composit
 ion-15/
METHOD:PUBLISH
END:VEVENT
END:VCALENDAR