BEGIN:VCALENDAR
VERSION:2.0
PRODID:spatie/icalendar-generator
DESCRIPTION:Events from Gympie Womens Shed
X-WR-CALDESC:Events from Gympie Womens Shed
REFRESH-INTERVAL;VALUE=DURATION:PT1440M
X-PUBLISHED-TTL:PT1440M
BEGIN:VTIMEZONE
TZID:Etc/GMT+0
BEGIN:STANDARD
DTSTART:20250716T090000Z
TZOFFSETFROM:+0000
TZOFFSETTO:+0000
END:STANDARD
END:VTIMEZONE
BEGIN:VTIMEZONE
TZID:UTC
BEGIN:STANDARD
DTSTART:20250727T131153Z
TZOFFSETFROM:+0000
TZOFFSETTO:+0000
END:STANDARD
END:VTIMEZONE
BEGIN:VEVENT
UID:263-81
DTSTAMP:20260423T131153Z
SUMMARY:Paper Flowers- 12th-9am-$10
LOCATION:
ORGANIZER;CN=gympiewomensshed:MAILTO:gympiewomensshed@gmail.com
DTSTART;TZID=Etc/GMT+0:20260412T090000
DTEND;TZID=Etc/GMT+0:20260412T110000
X-ALT-DESC;FMTTYPE=TEXT/HTML:Making Paper Flowers Sunday 12th 9am-11am Wise
  Woman: Kelly-Ann Groth Cost: $10
CATEGORIES:General
URL;VALUE=URI:https://gympiewomensshed.com/mc-events/paper-flowers-12th-9am
 -10/
METHOD:PUBLISH
END:VEVENT
END:VCALENDAR