BEGIN:VCALENDAR
VERSION:2.0
PRODID:spatie/icalendar-generator
DESCRIPTION:Events from Gympie Womens Shed
X-WR-CALDESC:Events from Gympie Womens Shed
REFRESH-INTERVAL;VALUE=DURATION:PT1440M
X-PUBLISHED-TTL:PT1440M
BEGIN:VTIMEZONE
TZID:Etc/GMT+0
BEGIN:STANDARD
DTSTART:20250721T100000Z
TZOFFSETFROM:+0000
TZOFFSETTO:+0000
END:STANDARD
END:VTIMEZONE
BEGIN:VTIMEZONE
TZID:UTC
BEGIN:STANDARD
DTSTART:20250727T131159Z
TZOFFSETFROM:+0000
TZOFFSETTO:+0000
END:STANDARD
END:VTIMEZONE
BEGIN:VEVENT
UID:246-71
DTSTAMP:20260423T131159Z
SUMMARY:Social Coffee – FREE- Soma Soma
LOCATION:
ORGANIZER;CN=gympiewomensshed:MAILTO:gympiewomensshed@gmail.com
DTSTART;TZID=Etc/GMT+0:20260417T100000
DTEND;TZID=Etc/GMT+0:20260417T110000
X-ALT-DESC;FMTTYPE=TEXT/HTML:
CATEGORIES:General
URL;VALUE=URI:https://gympiewomensshed.com/mc-events/social-coffee-free-som
 a-soma/
METHOD:PUBLISH
END:VEVENT
END:VCALENDAR