BEGIN:VCALENDAR
VERSION:2.0
PRODID:spatie/icalendar-generator
DESCRIPTION:Events from Gympie Womens Shed
X-WR-CALDESC:Events from Gympie Womens Shed
REFRESH-INTERVAL;VALUE=DURATION:PT1440M
X-PUBLISHED-TTL:PT1440M
BEGIN:VTIMEZONE
TZID:Etc/GMT+0
BEGIN:STANDARD
DTSTART:20250811T100000Z
TZOFFSETFROM:+0000
TZOFFSETTO:+0000
END:STANDARD
END:VTIMEZONE
BEGIN:VTIMEZONE
TZID:UTC
BEGIN:STANDARD
DTSTART:20250727T164046Z
TZOFFSETFROM:+0000
TZOFFSETTO:+0000
END:STANDARD
END:VTIMEZONE
BEGIN:VEVENT
UID:306-103
DTSTAMP:20260423T164046Z
SUMMARY:Paint with Penny - 4 xMay sessions for $20
LOCATION:Gympie Womens Shed 8 Fraser road  Gympie
ORGANIZER;CN=gympiewomensshed:MAILTO:gympiewomensshed@gmail.com
RRULE:FREQ=WEEKLY;UNTIL=20260530T000000Z
DTSTART;TZID=Etc/GMT+0:20260508T100000
DTEND;TZID=Etc/GMT+0:20260509T000000
X-ALT-DESC;FMTTYPE=TEXT/HTML:Paint with Penny – May 1st\,  8th\, &amp;amp\; 
 22nd\, 29th – 10am-12pm $20
CATEGORIES:General
URL;VALUE=URI:https://gympiewomensshed.com/mc-events/paint-with-penny-4-xma
 y-sessions-for-20/?mc_id=306
METHOD:PUBLISH
END:VEVENT
END:VCALENDAR