BEGIN:VCALENDAR
VERSION:2.0
PRODID:spatie/icalendar-generator
DESCRIPTION:Events from Gympie Womens Shed
X-WR-CALDESC:Events from Gympie Womens Shed
REFRESH-INTERVAL;VALUE=DURATION:PT1440M
X-PUBLISHED-TTL:PT1440M
BEGIN:VTIMEZONE
TZID:Etc/GMT+0
BEGIN:STANDARD
DTSTART:20250712T123000Z
TZOFFSETFROM:+0000
TZOFFSETTO:+0000
END:STANDARD
END:VTIMEZONE
BEGIN:VTIMEZONE
TZID:UTC
BEGIN:STANDARD
DTSTART:20250727T150225Z
TZOFFSETFROM:+0000
TZOFFSETTO:+0000
END:STANDARD
END:VTIMEZONE
BEGIN:VEVENT
UID:290-86
DTSTAMP:20260423T150225Z
SUMMARY:Mend yr own Clothes - FREE
LOCATION:Gympie Womens Shed 8 Fraser Road  Gympie qld
ORGANIZER;CN=gympiewomensshed:MAILTO:gympiewomensshed@gmail.com
DTSTART;TZID=Etc/GMT+0:20260408T123000
DTEND;TZID=Etc/GMT+0:20260408T143000
X-ALT-DESC;FMTTYPE=TEXT/HTML:Let’s mend your clothes April 8th &amp;amp\; 22n
 d 12.30-2.30 Wise Woman. Lyn MacAndie Cost: Free
CATEGORIES:General
URL;VALUE=URI:https://gympiewomensshed.com/mc-events/mend-yr-own-clothes-fr
 ee/
METHOD:PUBLISH
END:VEVENT
END:VCALENDAR