BEGIN:VCALENDAR
VERSION:2.0
PRODID:spatie/icalendar-generator
DESCRIPTION:Events from Gympie Womens Shed
X-WR-CALDESC:Events from Gympie Womens Shed
REFRESH-INTERVAL;VALUE=DURATION:PT1440M
X-PUBLISHED-TTL:PT1440M
BEGIN:VTIMEZONE
TZID:Etc/GMT+0
BEGIN:STANDARD
DTSTART:20250712T093000Z
TZOFFSETFROM:+0000
TZOFFSETTO:+0000
END:STANDARD
END:VTIMEZONE
BEGIN:VTIMEZONE
TZID:UTC
BEGIN:STANDARD
DTSTART:20250727T145234Z
TZOFFSETFROM:+0000
TZOFFSETTO:+0000
END:STANDARD
END:VTIMEZONE
BEGIN:VEVENT
UID:284-89
DTSTAMP:20260423T145234Z
SUMMARY:Beginners Sewing - Tote bag $15
LOCATION:Gympie Womens Shed 8 Fraser road  Gympie
ORGANIZER;CN=gympiewomensshed:MAILTO:gympiewomensshed@gmail.com
DTSTART;TZID=Etc/GMT+0:20260408T093000
DTEND;TZID=Etc/GMT+0:20260409T113000
X-ALT-DESC;FMTTYPE=TEXT/HTML:Beginner Sewing-  Make a Tote Bag April 8th &amp;
 amp\; 22nd Wednesday 9.30- 11.30am Wise Women : Lyn MacAndie and Susan O
 ’Brian
CATEGORIES:General
URL;VALUE=URI:https://gympiewomensshed.com/mc-events/beginners-sewing-tote-
 bag-15/
METHOD:PUBLISH
END:VEVENT
END:VCALENDAR