BEGIN:VCALENDAR
VERSION:2.0
PRODID:spatie/icalendar-generator
DESCRIPTION:Events from Gympie Womens Shed
X-WR-CALDESC:Events from Gympie Womens Shed
REFRESH-INTERVAL;VALUE=DURATION:PT1440M
X-PUBLISHED-TTL:PT1440M
BEGIN:VTIMEZONE
TZID:Etc/GMT+0
BEGIN:STANDARD
DTSTART:20250728T010000Z
TZOFFSETFROM:+0000
TZOFFSETTO:+0000
END:STANDARD
END:VTIMEZONE
BEGIN:VTIMEZONE
TZID:UTC
BEGIN:STANDARD
DTSTART:20250727T145540Z
TZOFFSETFROM:+0000
TZOFFSETTO:+0000
END:STANDARD
END:VTIMEZONE
BEGIN:VEVENT
UID:274-87
DTSTAMP:20260423T145540Z
SUMMARY:Anzac Day - CLOSED
LOCATION:
ORGANIZER;CN=gympiewomensshed:MAILTO:gympiewomensshed@gmail.com
DTSTART;TZID=Etc/GMT+0:20260424T010000
DTEND;TZID=Etc/GMT+0:20260424T020000
X-ALT-DESC;FMTTYPE=TEXT/HTML:
CATEGORIES:General
URL;VALUE=URI:https://gympiewomensshed.com/mc-events/anzac-day-closed/
METHOD:PUBLISH
END:VEVENT
END:VCALENDAR