BEGIN:VCALENDAR
VERSION:2.0
PRODID:spatie/icalendar-generator
DESCRIPTION:Events from Gympie Womens Shed
X-WR-CALDESC:Events from Gympie Womens Shed
REFRESH-INTERVAL;VALUE=DURATION:PT1440M
X-PUBLISHED-TTL:PT1440M
BEGIN:VTIMEZONE
TZID:Etc/GMT+0
BEGIN:STANDARD
DTSTART:20250722T133000Z
TZOFFSETFROM:+0000
TZOFFSETTO:+0000
END:STANDARD
END:VTIMEZONE
BEGIN:VTIMEZONE
TZID:UTC
BEGIN:STANDARD
DTSTART:20250727T145426Z
TZOFFSETFROM:+0000
TZOFFSETTO:+0000
END:STANDARD
END:VTIMEZONE
BEGIN:VEVENT
UID:264-73
DTSTAMP:20260423T145426Z
SUMMARY:Speaking Choir- FREE
LOCATION:Gympie Womens Shed 8 Fraser road  Gympie
ORGANIZER;CN=gympiewomensshed:MAILTO:gympiewomensshed@gmail.com
DTSTART;TZID=Etc/GMT+0:20260418T133000
DTEND;TZID=Etc/GMT+0:20260418T150000
X-ALT-DESC;FMTTYPE=TEXT/HTML:Speaking Choir- FREE Saturday April17th Time: 
 1:30pm-3.00pm Wise Woman: Estelle Bell
CATEGORIES:General
URL;VALUE=URI:https://gympiewomensshed.com/mc-events/speaking-choir-free/
METHOD:PUBLISH
END:VEVENT
END:VCALENDAR