BEGIN:VCALENDAR
VERSION:2.0
PRODID:spatie/icalendar-generator
DESCRIPTION:Events from Gympie Womens Shed
X-WR-CALDESC:Events from Gympie Womens Shed
REFRESH-INTERVAL;VALUE=DURATION:PT1440M
X-PUBLISHED-TTL:PT1440M
BEGIN:VTIMEZONE
TZID:Etc/GMT+0
BEGIN:STANDARD
DTSTART:20250727T113000Z
TZOFFSETFROM:+0000
TZOFFSETTO:+0000
END:STANDARD
END:VTIMEZONE
BEGIN:VTIMEZONE
TZID:UTC
BEGIN:STANDARD
DTSTART:20250727T131540Z
TZOFFSETFROM:+0000
TZOFFSETTO:+0000
END:STANDARD
END:VTIMEZONE
BEGIN:VEVENT
UID:259-78
DTSTAMP:20260423T131540Z
SUMMARY:Paint with Penny $20 all 5 classes
LOCATION:Gympie Womens Shed 8 Fraser road  Gympie
ORGANIZER;CN=gympiewomensshed:MAILTO:gympiewomensshed@gmail.com
RRULE:FREQ=WEEKLY;UNTIL=20260501T000000Z
DTSTART;TZID=Etc/GMT+0:20260423T113000
DTEND;TZID=Etc/GMT+0:20260423T133000
X-ALT-DESC;FMTTYPE=TEXT/HTML:Learn to Paint with Penny April Thursday 2nd\,
  9th\, 16th\, 23rd\, 30th 11.30-1.30 (bring your own light lunch) Cost $20
  for 5 weeks
CATEGORIES:General
URL;VALUE=URI:https://gympiewomensshed.com/mc-events/paint-with-penny-20-al
 l-5-classes/?mc_id=259
METHOD:PUBLISH
END:VEVENT
END:VCALENDAR