BEGIN:VCALENDAR
VERSION:2.0
PRODID:spatie/icalendar-generator
DESCRIPTION:Events from Gympie Womens Shed
X-WR-CALDESC:Events from Gympie Womens Shed
REFRESH-INTERVAL;VALUE=DURATION:PT1440M
X-PUBLISHED-TTL:PT1440M
BEGIN:VTIMEZONE
TZID:Etc/GMT+0
BEGIN:STANDARD
DTSTART:20250607T083000Z
TZOFFSETFROM:+0000
TZOFFSETTO:+0000
END:STANDARD
END:VTIMEZONE
BEGIN:VTIMEZONE
TZID:UTC
BEGIN:STANDARD
DTSTART:20250727T164359Z
TZOFFSETFROM:+0000
TZOFFSETTO:+0000
END:STANDARD
END:VTIMEZONE
BEGIN:VEVENT
UID:230-75
DTSTAMP:20260423T164359Z
SUMMARY:Tai Chi - 8.30- $5 pay on day
LOCATION:
ORGANIZER;CN=gympiewomensshed:MAILTO:gympiewomensshed@gmail.com
RRULE:FREQ=WEEKLY;UNTIL=20260429T000000Z
DTSTART;TZID=Etc/GMT+0:20260304T083000
DTEND;TZID=Etc/GMT+0:20260304T093000
X-ALT-DESC;FMTTYPE=TEXT/HTML:March Tai Chi -Wed 8.30 am 4th\, 11th\, 18th\,
  25th
CATEGORIES:General
URL;VALUE=URI:https://gympiewomensshed.com/mc-events/tai-chi-8-30-5-pay-on-
 day/?mc_id=230
METHOD:PUBLISH
END:VEVENT
END:VCALENDAR