BEGIN:VCALENDAR
VERSION:2.0
PRODID:spatie/icalendar-generator
DESCRIPTION:Events from Gympie Womens Shed
X-WR-CALDESC:Events from Gympie Womens Shed
REFRESH-INTERVAL;VALUE=DURATION:PT1440M
X-PUBLISHED-TTL:PT1440M
BEGIN:VTIMEZONE
TZID:Etc/GMT+0
BEGIN:STANDARD
DTSTART:20250720T093000Z
TZOFFSETFROM:+0000
TZOFFSETTO:+0000
END:STANDARD
END:VTIMEZONE
BEGIN:VTIMEZONE
TZID:UTC
BEGIN:STANDARD
DTSTART:20250727T131506Z
TZOFFSETFROM:+0000
TZOFFSETTO:+0000
END:STANDARD
END:VTIMEZONE
BEGIN:VEVENT
UID:164-10
DTSTAMP:20260423T131506Z
SUMMARY:FREE Cuppa &amp;amp\; Craft
LOCATION:Gympie Womens Shed 8 Fraser road  Gympie
ORGANIZER;CN=gympiewomensshed:MAILTO:gympiewomensshed@gmail.com
RRULE:FREQ=WEEKLY;UNTIL=20261126T000000Z
DTSTART;TZID=Etc/GMT+0:20260416T093000
DTEND;TZID=Etc/GMT+0:20260416T151000
X-ALT-DESC;FMTTYPE=TEXT/HTML:Come and join our members for a free get toget
 her where we share a cuppa and work on our latest craft project This is at
  the shed frfom 9.30am each Thursday - all day event
CATEGORIES:General
URL;VALUE=URI:https://gympiewomensshed.com/mc-events/free-cuppa-craft/?mc_i
 d=164
METHOD:PUBLISH
END:VEVENT
END:VCALENDAR